BEGIN:VCALENDAR
VERSION:2.0
PRODID:-//Dress for Success Indianapolis - ECPv6.15.20//NONSGML v1.0//EN
CALSCALE:GREGORIAN
METHOD:PUBLISH
X-WR-CALNAME:Dress for Success Indianapolis
X-ORIGINAL-URL:https://indydfs.org
X-WR-CALDESC:Events for Dress for Success Indianapolis
REFRESH-INTERVAL;VALUE=DURATION:PT1H
X-Robots-Tag:noindex
X-PUBLISHED-TTL:PT1H
BEGIN:VTIMEZONE
TZID:UTC
BEGIN:STANDARD
TZOFFSETFROM:+0000
TZOFFSETTO:+0000
TZNAME:UTC
DTSTART:20180101T000000
END:STANDARD
END:VTIMEZONE
BEGIN:VEVENT
DTSTART;TZID=UTC:20190724T090000
DTEND;TZID=UTC:20190724T130000
DTSTAMP:20260419T094404
CREATED:20190716T221159Z
LAST-MODIFIED:20190716T221159Z
UID:23487-1563958800-1563973200@indydfs.org
SUMMARY:Resume Review And Interview Workshop
DESCRIPTION: Get ready for your job search with our partners JPMorgan Chase & Co. Come have your resume reviewed and talk with experts about your next#interview. The event is #FREE and transportation is provided. Space is limited so RSVP today!  http://bit.ly/resumestips
URL:https://indydfs.org/event/resume-review-and-interview-workshop/
LOCATION:IN
END:VEVENT
END:VCALENDAR