BEGIN:VCALENDAR
VERSION:2.0
PRODID:-//Dress for Success Indianapolis - ECPv6.15.20//NONSGML v1.0//EN
CALSCALE:GREGORIAN
METHOD:PUBLISH
X-WR-CALNAME:Dress for Success Indianapolis
X-ORIGINAL-URL:https://indydfs.org
X-WR-CALDESC:Events for Dress for Success Indianapolis
REFRESH-INTERVAL;VALUE=DURATION:PT1H
X-Robots-Tag:noindex
X-PUBLISHED-TTL:PT1H
BEGIN:VTIMEZONE
TZID:America/Indiana/Indianapolis
BEGIN:DAYLIGHT
TZOFFSETFROM:-0500
TZOFFSETTO:-0400
TZNAME:EDT
DTSTART:20200308T070000
END:DAYLIGHT
BEGIN:STANDARD
TZOFFSETFROM:-0400
TZOFFSETTO:-0500
TZNAME:EST
DTSTART:20201101T060000
END:STANDARD
BEGIN:DAYLIGHT
TZOFFSETFROM:-0500
TZOFFSETTO:-0400
TZNAME:EDT
DTSTART:20210314T070000
END:DAYLIGHT
BEGIN:STANDARD
TZOFFSETFROM:-0400
TZOFFSETTO:-0500
TZNAME:EST
DTSTART:20211107T060000
END:STANDARD
BEGIN:DAYLIGHT
TZOFFSETFROM:-0500
TZOFFSETTO:-0400
TZNAME:EDT
DTSTART:20220313T070000
END:DAYLIGHT
BEGIN:STANDARD
TZOFFSETFROM:-0400
TZOFFSETTO:-0500
TZNAME:EST
DTSTART:20221106T060000
END:STANDARD
END:VTIMEZONE
BEGIN:VEVENT
DTSTART;TZID=America/Indiana/Indianapolis:20210626T193000
DTEND;TZID=America/Indiana/Indianapolis:20210626T223000
DTSTAMP:20260423T192242
CREATED:20210512T162719Z
LAST-MODIFIED:20210521T014627Z
UID:24819-1624735800-1624746600@indydfs.org
SUMMARY:Silent Disco on the Circle
DESCRIPTION:This year Dress For Success Indianapolis will celebrate 22 years of providing women in transition with the programs\, support\, and network that they need to move forward and achieve\, which is needed now more than ever! The pandemic has left thousands of Hoosiers unemployed\, devastating our downtown area. You can support Dress For Success Indianapolis by attending the Silent Disco On The Circle on Saturday\, June 26th! \nGuest will enjoy a unique\, outdoor\, dance party on the historical Monument Circle. Your ticket gets you access to a Silent Disco which is a DJ fueled\, three hour dance experience! While wearing headsets provided by Silent Events\, guest can dance to their own tune\, supporting Dress For success and Downtown Indy! \nBuy now for the early bird pricing by clicking here \n\nWarning: Lighting used in this event may be triggering for individuals with photosensitivity or seizure disorders \n\n\n 
URL:https://indydfs.org/event/silent-disco-on-the-circle/
LOCATION:1 Monument Circle\, 1 Monument Circle\, Indianapolis\, IN\, 46204
END:VEVENT
END:VCALENDAR