BEGIN:VCALENDAR
VERSION:2.0
PRODID:-//Dress for Success Indianapolis - ECPv6.15.20//NONSGML v1.0//EN
CALSCALE:GREGORIAN
METHOD:PUBLISH
X-ORIGINAL-URL:https://indydfs.org
X-WR-CALDESC:Events for Dress for Success Indianapolis
REFRESH-INTERVAL;VALUE=DURATION:PT1H
X-Robots-Tag:noindex
X-PUBLISHED-TTL:PT1H
BEGIN:VTIMEZONE
TZID:America/Indiana/Indianapolis
BEGIN:DAYLIGHT
TZOFFSETFROM:-0500
TZOFFSETTO:-0400
TZNAME:EDT
DTSTART:20240310T070000
END:DAYLIGHT
BEGIN:STANDARD
TZOFFSETFROM:-0400
TZOFFSETTO:-0500
TZNAME:EST
DTSTART:20241103T060000
END:STANDARD
BEGIN:DAYLIGHT
TZOFFSETFROM:-0500
TZOFFSETTO:-0400
TZNAME:EDT
DTSTART:20250309T070000
END:DAYLIGHT
BEGIN:STANDARD
TZOFFSETFROM:-0400
TZOFFSETTO:-0500
TZNAME:EST
DTSTART:20251102T060000
END:STANDARD
BEGIN:DAYLIGHT
TZOFFSETFROM:-0500
TZOFFSETTO:-0400
TZNAME:EDT
DTSTART:20260308T070000
END:DAYLIGHT
BEGIN:STANDARD
TZOFFSETFROM:-0400
TZOFFSETTO:-0500
TZNAME:EST
DTSTART:20261101T060000
END:STANDARD
END:VTIMEZONE
BEGIN:VEVENT
DTSTART;TZID=America/Indiana/Indianapolis:20250301T080000
DTEND;TZID=America/Indiana/Indianapolis:20250301T170000
DTSTAMP:20260421T063459
CREATED:20250301T140101Z
LAST-MODIFIED:20250301T140101Z
UID:27352-1740816000-1740848400@indydfs.org
SUMMARY:Job Opportunity-DWD
DESCRIPTION:DWD Claims Invesigator 3 Job Lead \nOpen Position- Claims Investigator 3 – $22/hour \nTraining starts Mar 17\, 2025 \nPlease review all the details in the previous flyer. Scan the QR code and apply.
URL:https://indydfs.org/event/job-opportunity-dwd/
LOCATION:dwd\, 10 N. Senate Ave\, Indianapolis\, indianapolis\, IN\, 46204\, United States
CATEGORIES:Job fair
END:VEVENT
BEGIN:VEVENT
DTSTART;TZID=America/Indiana/Indianapolis:20250301T080000
DTEND;TZID=America/Indiana/Indianapolis:20250301T170000
DTSTAMP:20260421T063459
CREATED:20250301T141707Z
LAST-MODIFIED:20250301T141707Z
UID:27359-1740816000-1740848400@indydfs.org
SUMMARY:Expungement Help Desk
DESCRIPTION:Neighborhood Christian Legal Clinic offers a Expungement Help Desk position. To apply: \nIn-person at the community Justice Campus: \n-Tuesdays and Wednesdays (9AM -4 PM) on the third floor of the Aequitas office Building at 3115 Southeastern Avenue \n-The first Thursday of each month (12 PM-4 PM) on the fourth floor of the courthouse in the legal Resource Center\, Room C045\,at 675 Justice Way. \nTo apply via online and see more details see the following flyer: \nExpungement Help Desk
URL:https://indydfs.org/event/expungement-help-desk-2/
LOCATION:IN
CATEGORIES:Job fair
END:VEVENT
BEGIN:VEVENT
DTSTART;TZID=America/Indiana/Indianapolis:20250301T080000
DTEND;TZID=America/Indiana/Indianapolis:20250301T170000
DTSTAMP:20260421T063459
CREATED:20250301T142058Z
LAST-MODIFIED:20250301T142058Z
UID:27362-1740816000-1740848400@indydfs.org
SUMMARY:TRU by Hilton- Job oportunities
DESCRIPTION:The next Flyer shows the different job opportunities offered by the youn-at-heart hotel TRU By HIlton. Click on it to see all the details \nHilton Night Auditor
URL:https://indydfs.org/event/tru-by-hilton-job-oportunities/
LOCATION:IN
CATEGORIES:Job fair
END:VEVENT
BEGIN:VEVENT
DTSTART;TZID=America/Indiana/Indianapolis:20250301T080000
DTEND;TZID=America/Indiana/Indianapolis:20250301T170000
DTSTAMP:20260421T063459
CREATED:20250301T142936Z
LAST-MODIFIED:20250301T142936Z
UID:27365-1740816000-1740848400@indydfs.org
SUMMARY:Indiana Small Business Development JOB Opportunity
DESCRIPTION:Indiana Small Business Development is seeking a knowledgeable and positive individual with a passion for helping small businesses\, entrepreneurs\, and innovators throughout Indiana. This role is responsible for the financial and grant management of the Indiana SBDC program and reports to the Indiana SBDC State Director. \nhttps://www.linkedin.com/jobs/view/4138326069/?refId=7TTafGktTACh1tcPOB9GsA%3D%3D&trackingId=7TTafGktTACh1tcPOB9GsA%3D%3D \n  \n 
URL:https://indydfs.org/event/indiana-small-business-development-job-opportunity/
LOCATION:IN
CATEGORIES:Job fair
END:VEVENT
BEGIN:VEVENT
DTSTART;TZID=America/Indiana/Indianapolis:20250301T080000
DTEND;TZID=America/Indiana/Indianapolis:20250301T170000
DTSTAMP:20260421T063459
CREATED:20250301T195537Z
LAST-MODIFIED:20250301T195537Z
UID:27371-1740816000-1740848400@indydfs.org
SUMMARY:International Paper Jobs Opportunities
DESCRIPTION:  \nInternational Paper Current Opportunities \nClick on the flyer to view the URL. \nNew! Customer Account CoordinatorInternational Paper – Indianapolis\, IN\nCustomer Account Coordinator Description: What if you were given the opportunity and responsibility to make a difference? At International Paper\, you control your destiny. We offer challeng…\nAcquired: Jan. 28\, 2025\, 2:24 a.m. \nNew! Quality Manager\nInternational Paper – Indianapolis\, IN\nQuality Manager Description: What if you were given the opportunity and responsibility\nto make a difference? At International Paper\, you control your destiny. We offer\nchallenging assignmen…\nAcquired: Jan. 28\, 2025\, 2:24 a.m. \nNew! Design Intern\nInternational Paper – Indianapolis\, IN\nDesign Intern Description: **Position Title:** Design Intern **Pay Rate** : $1\,690 –\n$2\,167 semi-monthly _Multiple factors\, including individual experience\, skil…\nAcquired: Jan. 24\, 2025\, 3:59 a.m. \nNew! Printing Production Technician\nInternational Paper – Indianapolis\, IN\nPrinting Production Technician Description: What if you were given the opportunity and\nresponsibility to make a difference? At International Paper\, you control your destiny. We\noffer challe…\nAcquired: Jan. 22\, 2025\, 5:36 a.m. \nNew! Maintenance Technician\nInternational Paper – Indianapolis\, IN\nMaintenance Technician Description: **Position Title:** **Liner Maintenance\nTechnician** **Pay Rate:** $32.94/hr **Category/Shift:** Hourly Full-Time – 2nd Shift\, 2- \n3-2…\nAcquired: Jan. 15\, 2025\, 4:32 a.m.
URL:https://indydfs.org/event/international-paper-jobs-opportunities/
LOCATION:IN
CATEGORIES:Job fair
END:VEVENT
BEGIN:VEVENT
DTSTART;TZID=America/Indiana/Indianapolis:20250301T080000
DTEND;TZID=America/Indiana/Indianapolis:20250301T170000
DTSTAMP:20260421T063459
CREATED:20250301T203636Z
LAST-MODIFIED:20250301T203636Z
UID:27377-1740816000-1740848400@indydfs.org
SUMMARY:Kelly Education Opportunity
DESCRIPTION:TAKE THE LEAP THIS SPRING AND LOCK IN YOUR ROLE.\nOUR SCHOOLS NEED YOUR SUPPORT—SPRING IS THE IDEAL TIME TO\nBECOME A SUBSTITUTE TEACHER. \nYou will enjoy: \nThe freedom to set your own schedule.\nYour choice of schools and grade\nlevels.\nWeekly Pay\nFree Training and professional development\nPaid orientation\nWork-free nights\, weekends\, holidays\, and summers\nService bonus plans and incentives\nKelly-Sponsored ACA health care coverage available to eligible\nemployees\nOptional insurance plans* \nMore information in the flyer \nKelly Education Spring 2025
URL:https://indydfs.org/event/kelly-education-opportunity/
LOCATION:IN
CATEGORIES:Special Event
ORGANIZER;CN="Kelly Education":MAILTO:EDNERecruiting@Kellyservices.com
END:VEVENT
BEGIN:VEVENT
DTSTART;TZID=America/Indiana/Indianapolis:20250301T080000
DTEND;TZID=America/Indiana/Indianapolis:20250301T170000
DTSTAMP:20260421T063459
CREATED:20250301T221159Z
LAST-MODIFIED:20250301T221159Z
UID:27380-1740816000-1740848400@indydfs.org
SUMMARY:Division of Family Resources Job Opportunities
DESCRIPTION:Knowledge Services DFR Eligibility Specialist Bi-Lingual.pdf \nDivision of Family Resources-Now Hiring Bilingual Employees \nKnowledge Services has great opportunities available for customer service focused individuals who want to make an immediate impact on their community with the Family & Social Services Administration – Division of Family Resources (DFR). These positions are long-term\, full-time assignments (M-F 8am-4:30pm) that offer benefits\, paid time off\, and opportunities for advancement. Knowledge Services has opportunities available in DFR offices across the state of Indiana\, in all 92 counties. \nThe details of the opportunities can be found in the previous flyer. \nApply now (QR flyer) or speak with one of our recruiters!\ndfr-knowledgeservices.icims.com/jobs/search\nDFRrecruiting@knowledgeservices.com
URL:https://indydfs.org/event/division-of-family-resources-job-opportunities/
LOCATION:IN
CATEGORIES:Job fair
ORGANIZER;CN="Division of Family Resources":MAILTO:DFRrecruiting@knowledgeservices.com
END:VEVENT
END:VCALENDAR