BEGIN:VCALENDAR
VERSION:2.0
PRODID:-//Dress for Success Indianapolis - ECPv6.15.20//NONSGML v1.0//EN
CALSCALE:GREGORIAN
METHOD:PUBLISH
X-WR-CALNAME:Dress for Success Indianapolis
X-ORIGINAL-URL:https://indydfs.org
X-WR-CALDESC:Events for Dress for Success Indianapolis
REFRESH-INTERVAL;VALUE=DURATION:PT1H
X-Robots-Tag:noindex
X-PUBLISHED-TTL:PT1H
BEGIN:VTIMEZONE
TZID:America/Indiana/Indianapolis
BEGIN:DAYLIGHT
TZOFFSETFROM:-0500
TZOFFSETTO:-0400
TZNAME:EDT
DTSTART:20240310T070000
END:DAYLIGHT
BEGIN:STANDARD
TZOFFSETFROM:-0400
TZOFFSETTO:-0500
TZNAME:EST
DTSTART:20241103T060000
END:STANDARD
BEGIN:DAYLIGHT
TZOFFSETFROM:-0500
TZOFFSETTO:-0400
TZNAME:EDT
DTSTART:20250309T070000
END:DAYLIGHT
BEGIN:STANDARD
TZOFFSETFROM:-0400
TZOFFSETTO:-0500
TZNAME:EST
DTSTART:20251102T060000
END:STANDARD
BEGIN:DAYLIGHT
TZOFFSETFROM:-0500
TZOFFSETTO:-0400
TZNAME:EDT
DTSTART:20260308T070000
END:DAYLIGHT
BEGIN:STANDARD
TZOFFSETFROM:-0400
TZOFFSETTO:-0500
TZNAME:EST
DTSTART:20261101T060000
END:STANDARD
END:VTIMEZONE
BEGIN:VEVENT
DTSTART;TZID=America/Indiana/Indianapolis:20250303T080000
DTEND;TZID=America/Indiana/Indianapolis:20250324T160000
DTSTAMP:20260421T051149
CREATED:20250314T002650Z
LAST-MODIFIED:20250314T002650Z
UID:27501-1740988800-1742832000@indydfs.org
SUMMARY:The Wayne Township Fire Department of Marion County\, IN is accepting applications
DESCRIPTION:Wayne Township Fire Dept 2025 Hiring Ad \nThe Wayne Township Fire Department of Marion County\, IN is accepting applications for an eligibility list for the position of Firefighter. Information cards will be accepted starting on Monday\, March 3\, 2025\, at 8:00 am and will end on Monday\, March 24\, 2025\, at 4:00 pm. For more information or to fill out an information card visit our web site at https://waynefire.org/merit-firefighter-hiring-information/ \nYou may also stop by the Wayne Township Fire Department Headquarters located at 700 N. High School Road Indianapolis\, IN 46214 Monday through Friday except holidays\, from 8:00am to 4:00pm.\nQuestions can be directed to the hiring coordinator at 317-246-6203. \nTo see more information\, click on the flyer.
URL:https://indydfs.org/event/the-wayne-township-fire-department-of-marion-county-in-is-accepting-applications/
LOCATION:700 N High School\, 700 N High School\, indianapolis\, IN\, 46214\, United States
CATEGORIES:Special Event
END:VEVENT
BEGIN:VEVENT
DTSTART;TZID=America/Indiana/Indianapolis:20250304T100000
DTEND;TZID=America/Indiana/Indianapolis:20250304T120000
DTSTAMP:20260421T051149
CREATED:20250313T010521Z
LAST-MODIFIED:20250313T010521Z
UID:27473-1741082400-1741089600@indydfs.org
SUMMARY:Expungement and Eviction Workshop
DESCRIPTION:Tuesday\, March 4\, 2025\, 10:00 a.m. – 12:00 p.m. \nDo you have a criminal record? \nDid you know you have to file a motion to expunge/seal your record with the court in the county where the evictions were filed to get rid of an eviction? \nIn this workshop\, facilitated by Neighborhood Christian Legal Clinic & Indiana Legal Service\, participants will receive information on who is eligible for expungement and how the eviction sealing process works. \nFor more information\, call (317) 693-7603.
URL:https://indydfs.org/event/expungement-and-eviction-workshop/
LOCATION:IN
CATEGORIES:Special Event
END:VEVENT
BEGIN:VEVENT
DTSTART;TZID=America/Indiana/Indianapolis:20250304T130000
DTEND;TZID=America/Indiana/Indianapolis:20250304T150000
DTSTAMP:20260421T051149
CREATED:20250309T224835Z
LAST-MODIFIED:20250309T224835Z
UID:27408-1741093200-1741100400@indydfs.org
SUMMARY:Spring Hiring Event
DESCRIPTION:WorkOne Plainfield Hiring Event Mar 4th \n  \n 
URL:https://indydfs.org/event/spring-hiring-event/
LOCATION:WorkOne Plainfield\, 1610 Reeves Rd\, Plainfield\, IN\, 46168\, United States
CATEGORIES:Job fair
END:VEVENT
END:VCALENDAR