BEGIN:VCALENDAR
VERSION:2.0
PRODID:-//Dress for Success Indianapolis - ECPv6.15.20//NONSGML v1.0//EN
CALSCALE:GREGORIAN
METHOD:PUBLISH
X-WR-CALNAME:Dress for Success Indianapolis
X-ORIGINAL-URL:https://indydfs.org
X-WR-CALDESC:Events for Dress for Success Indianapolis
REFRESH-INTERVAL;VALUE=DURATION:PT1H
X-Robots-Tag:noindex
X-PUBLISHED-TTL:PT1H
BEGIN:VTIMEZONE
TZID:America/Indiana/Indianapolis
BEGIN:DAYLIGHT
TZOFFSETFROM:-0500
TZOFFSETTO:-0400
TZNAME:EDT
DTSTART:20240310T070000
END:DAYLIGHT
BEGIN:STANDARD
TZOFFSETFROM:-0400
TZOFFSETTO:-0500
TZNAME:EST
DTSTART:20241103T060000
END:STANDARD
BEGIN:DAYLIGHT
TZOFFSETFROM:-0500
TZOFFSETTO:-0400
TZNAME:EDT
DTSTART:20250309T070000
END:DAYLIGHT
BEGIN:STANDARD
TZOFFSETFROM:-0400
TZOFFSETTO:-0500
TZNAME:EST
DTSTART:20251102T060000
END:STANDARD
BEGIN:DAYLIGHT
TZOFFSETFROM:-0500
TZOFFSETTO:-0400
TZNAME:EDT
DTSTART:20260308T070000
END:DAYLIGHT
BEGIN:STANDARD
TZOFFSETFROM:-0400
TZOFFSETTO:-0500
TZNAME:EST
DTSTART:20261101T060000
END:STANDARD
END:VTIMEZONE
BEGIN:VEVENT
DTSTART;TZID=America/Indiana/Indianapolis:20250303T080000
DTEND;TZID=America/Indiana/Indianapolis:20250324T160000
DTSTAMP:20260421T050654
CREATED:20250314T002650Z
LAST-MODIFIED:20250314T002650Z
UID:27501-1740988800-1742832000@indydfs.org
SUMMARY:The Wayne Township Fire Department of Marion County\, IN is accepting applications
DESCRIPTION:Wayne Township Fire Dept 2025 Hiring Ad \nThe Wayne Township Fire Department of Marion County\, IN is accepting applications for an eligibility list for the position of Firefighter. Information cards will be accepted starting on Monday\, March 3\, 2025\, at 8:00 am and will end on Monday\, March 24\, 2025\, at 4:00 pm. For more information or to fill out an information card visit our web site at https://waynefire.org/merit-firefighter-hiring-information/ \nYou may also stop by the Wayne Township Fire Department Headquarters located at 700 N. High School Road Indianapolis\, IN 46214 Monday through Friday except holidays\, from 8:00am to 4:00pm.\nQuestions can be directed to the hiring coordinator at 317-246-6203. \nTo see more information\, click on the flyer.
URL:https://indydfs.org/event/the-wayne-township-fire-department-of-marion-county-in-is-accepting-applications/
LOCATION:700 N High School\, 700 N High School\, indianapolis\, IN\, 46214\, United States
CATEGORIES:Special Event
END:VEVENT
BEGIN:VEVENT
DTSTART;TZID=America/Indiana/Indianapolis:20250309T080000
DTEND;TZID=America/Indiana/Indianapolis:20250309T170000
DTSTAMP:20260421T050654
CREATED:20250309T221817Z
LAST-MODIFIED:20250309T221817Z
UID:27389-1741507200-1741539600@indydfs.org
SUMMARY:LHH Job Opportunity
DESCRIPTION:LHH has the next job opportunities \nLHH Engineering Opportunities \nIf you would like to apply\, please send your resume to Robin.Turner@LHH.com today. \n 
URL:https://indydfs.org/event/lhh-job-opportunity/
LOCATION:IN
CATEGORIES:Job fair
END:VEVENT
BEGIN:VEVENT
DTSTART;TZID=America/Indiana/Indianapolis:20250309T080000
DTEND;TZID=America/Indiana/Indianapolis:20250309T170000
DTSTAMP:20260421T050654
CREATED:20250309T222728Z
LAST-MODIFIED:20250309T222728Z
UID:27394-1741507200-1741539600@indydfs.org
SUMMARY:Quest Safety Products INC- JOB Opportunity
DESCRIPTION:Quest Safety Products Pricing Analyst \nOPEN POSITION \nPricing Analyst
URL:https://indydfs.org/event/quest-safety-products-inc-job-opportunity/
LOCATION:IN
CATEGORIES:Job fair
END:VEVENT
BEGIN:VEVENT
DTSTART;TZID=America/Indiana/Indianapolis:20250309T080000
DTEND;TZID=America/Indiana/Indianapolis:20250309T170000
DTSTAMP:20260421T050654
CREATED:20250309T222929Z
LAST-MODIFIED:20250309T222929Z
UID:27396-1741507200-1741539600@indydfs.org
SUMMARY:EmployIndy -Service Providers
DESCRIPTION:Re-Entry Service Providers QR Code \nScan the QR code using your mobile device’s camera to find a list\nof re-entry friendly service providers in Marion County\, organized\nby categories including: Education\, Employment/Training\,\nHousing\, Legal and more.
URL:https://indydfs.org/event/employindy-service-providers/
LOCATION:IN
CATEGORIES:Special Event
END:VEVENT
BEGIN:VEVENT
DTSTART;TZID=America/Indiana/Indianapolis:20250309T080000
DTEND;TZID=America/Indiana/Indianapolis:20250309T170000
DTSTAMP:20260421T050654
CREATED:20250309T223312Z
LAST-MODIFIED:20250309T223312Z
UID:27398-1741507200-1741539600@indydfs.org
SUMMARY:NGS- JOB OPPORTUNITY
DESCRIPTION:State of Indiana Bioinformatician \nTitle: Bioinformatician\nLocation: Indianapolis\, IN\nDuration: 5+ months with possible extension\nCandidate must be paid $36.58 if selected for engagement\nThe position is on-site\, Monday through Friday\, 7.5H days \nMore information is in the flyer.
URL:https://indydfs.org/event/ngs-job-opportunity/
LOCATION:IN
CATEGORIES:Job fair
END:VEVENT
BEGIN:VEVENT
DTSTART;TZID=America/Indiana/Indianapolis:20250309T080000
DTEND;TZID=America/Indiana/Indianapolis:20250309T170000
DTSTAMP:20260421T050654
CREATED:20250309T223714Z
LAST-MODIFIED:20250309T223714Z
UID:27400-1741507200-1741539600@indydfs.org
SUMMARY:Wasson Nursery- Job Opportunity
DESCRIPTION:Wasson Nursery Hiring \nWasson Nursery is hiring! Click on the flyer to find more information about the job opportunities.
URL:https://indydfs.org/event/wasson-nursery-job-opportunity/
LOCATION:IN
CATEGORIES:Job fair
END:VEVENT
BEGIN:VEVENT
DTSTART;TZID=America/Indiana/Indianapolis:20250309T080000
DTEND;TZID=America/Indiana/Indianapolis:20250309T170000
DTSTAMP:20260421T050654
CREATED:20250309T224252Z
LAST-MODIFIED:20250309T224252Z
UID:27404-1741507200-1741539600@indydfs.org
SUMMARY:Friends of the White River- Job Position
DESCRIPTION:Friends of the White River is looking for a River Program Specialist. The description and the application process is in the following flyer. \nWhite River Seasonal River Program Specialist (1)
URL:https://indydfs.org/event/friends-of-the-white-river-job-position/
LOCATION:IN
CATEGORIES:Job fair
END:VEVENT
END:VCALENDAR