BEGIN:VCALENDAR
VERSION:2.0
PRODID:-//Dress for Success Indianapolis - ECPv6.15.20//NONSGML v1.0//EN
CALSCALE:GREGORIAN
METHOD:PUBLISH
X-ORIGINAL-URL:https://indydfs.org
X-WR-CALDESC:Events for Dress for Success Indianapolis
REFRESH-INTERVAL;VALUE=DURATION:PT1H
X-Robots-Tag:noindex
X-PUBLISHED-TTL:PT1H
BEGIN:VTIMEZONE
TZID:America/Indiana/Indianapolis
BEGIN:DAYLIGHT
TZOFFSETFROM:-0500
TZOFFSETTO:-0400
TZNAME:EDT
DTSTART:20240310T070000
END:DAYLIGHT
BEGIN:STANDARD
TZOFFSETFROM:-0400
TZOFFSETTO:-0500
TZNAME:EST
DTSTART:20241103T060000
END:STANDARD
BEGIN:DAYLIGHT
TZOFFSETFROM:-0500
TZOFFSETTO:-0400
TZNAME:EDT
DTSTART:20250309T070000
END:DAYLIGHT
BEGIN:STANDARD
TZOFFSETFROM:-0400
TZOFFSETTO:-0500
TZNAME:EST
DTSTART:20251102T060000
END:STANDARD
BEGIN:DAYLIGHT
TZOFFSETFROM:-0500
TZOFFSETTO:-0400
TZNAME:EDT
DTSTART:20260308T070000
END:DAYLIGHT
BEGIN:STANDARD
TZOFFSETFROM:-0400
TZOFFSETTO:-0500
TZNAME:EST
DTSTART:20261101T060000
END:STANDARD
END:VTIMEZONE
BEGIN:VEVENT
DTSTART;TZID=America/Indiana/Indianapolis:20250303T080000
DTEND;TZID=America/Indiana/Indianapolis:20250324T160000
DTSTAMP:20260421T062910
CREATED:20250314T002650Z
LAST-MODIFIED:20250314T002650Z
UID:27501-1740988800-1742832000@indydfs.org
SUMMARY:The Wayne Township Fire Department of Marion County\, IN is accepting applications
DESCRIPTION:Wayne Township Fire Dept 2025 Hiring Ad \nThe Wayne Township Fire Department of Marion County\, IN is accepting applications for an eligibility list for the position of Firefighter. Information cards will be accepted starting on Monday\, March 3\, 2025\, at 8:00 am and will end on Monday\, March 24\, 2025\, at 4:00 pm. For more information or to fill out an information card visit our web site at https://waynefire.org/merit-firefighter-hiring-information/ \nYou may also stop by the Wayne Township Fire Department Headquarters located at 700 N. High School Road Indianapolis\, IN 46214 Monday through Friday except holidays\, from 8:00am to 4:00pm.\nQuestions can be directed to the hiring coordinator at 317-246-6203. \nTo see more information\, click on the flyer.
URL:https://indydfs.org/event/the-wayne-township-fire-department-of-marion-county-in-is-accepting-applications/
LOCATION:700 N High School\, 700 N High School\, indianapolis\, IN\, 46214\, United States
CATEGORIES:Special Event
END:VEVENT
BEGIN:VEVENT
DTSTART;VALUE=DATE:20250318
DTEND;VALUE=DATE:20250401
DTSTAMP:20260421T062910
CREATED:20250319T004916Z
LAST-MODIFIED:20250319T004916Z
UID:27531-1742256000-1743465599@indydfs.org
SUMMARY:Job Openings/Internships/Volunteer Opportunities
DESCRIPTION:On the next flyer we present Job Openings/Internships/Volunteer Opportunities in Indianapolis. \nVisit Indy Job Openings
URL:https://indydfs.org/event/job-openings-internships-volunteer-opportunities/
LOCATION:IN
CATEGORIES:Special Event
END:VEVENT
BEGIN:VEVENT
DTSTART;TZID=America/Indiana/Indianapolis:20250320T090000
DTEND;TZID=America/Indiana/Indianapolis:20250320T120000
DTSTAMP:20260421T062910
CREATED:20250309T230432Z
LAST-MODIFIED:20250309T230432Z
UID:27412-1742461200-1742472000@indydfs.org
SUMMARY:In-home sales consultant job fair
DESCRIPTION:2025_GuardianProtection_Sales_JobFair_March2025 \nWE’RE HIRING AWESOME PEOPLE!\nLooking for unlimited earning potential\, an awesome\nculture\, and the opportunity to do work that really matters? Well\, we’re looking for you! \nWhere? \nResidence Inn Indianapolis South/Greenwood\n5250 Noggle Way\, Indianapolis\, Indiana\, USA\, 46237 \nThursday\, March 20\, 9am – 12pm \nInterviews done on-site! Questions? Contact Bill: wermiger@guardianprotection.com \nClick on the flyer to see more!
URL:https://indydfs.org/event/in-home-sales-consultant-job-fair/
LOCATION:IN
CATEGORIES:Special Event
END:VEVENT
BEGIN:VEVENT
DTSTART;TZID=America/Indiana/Indianapolis:20250320T090000
DTEND;TZID=America/Indiana/Indianapolis:20250320T120000
DTSTAMP:20260421T062910
CREATED:20250313T010932Z
LAST-MODIFIED:20250313T010932Z
UID:27478-1742461200-1742472000@indydfs.org
SUMMARY:CARE PROGRAM
DESCRIPTION:Thursday: March 20 | 9:00 a.m. to 12:00 p.m.\nIndianapolis Urban League\, 777 Indiana Avenue\nFree parking in the Indianapolis Urban League parking lot \nThe Indianapolis Urban League’s Community Access &\nReintegration Effort (CARE) Program provides returning\ncitizens a continuum of supportive wrap-around services\nthroughout their adjustment to community living over a\ntwo-year period. \nFor more information call (317) 693-7603.
URL:https://indydfs.org/event/care-program/
LOCATION:IN
CATEGORIES:Special Event
END:VEVENT
BEGIN:VEVENT
DTSTART;TZID=America/Indiana/Indianapolis:20250320T130000
DTEND;TZID=America/Indiana/Indianapolis:20250320T143000
DTSTAMP:20260421T062910
CREATED:20250314T011653Z
LAST-MODIFIED:20250314T011817Z
UID:27506-1742475600-1742481000@indydfs.org
SUMMARY:West Side Chamber Business Forum
DESCRIPTION:West Side Chamber Business Forum\nThurs\, Mar 20\, 2025\n1:00-2:30 PM \n5315 Lafayette Rd\nIndianapolis\, IN
URL:https://indydfs.org/event/west-side-chamber-business-forum/
LOCATION:5315 lafayette Rd\, 5315 Lafayette Rd\, indianapolis\, IN\, United States
CATEGORIES:Special Event
END:VEVENT
END:VCALENDAR