BEGIN:VCALENDAR
VERSION:2.0
PRODID:-//Dress for Success Indianapolis - ECPv6.15.20//NONSGML v1.0//EN
CALSCALE:GREGORIAN
METHOD:PUBLISH
X-ORIGINAL-URL:https://indydfs.org
X-WR-CALDESC:Events for Dress for Success Indianapolis
REFRESH-INTERVAL;VALUE=DURATION:PT1H
X-Robots-Tag:noindex
X-PUBLISHED-TTL:PT1H
BEGIN:VTIMEZONE
TZID:America/Indiana/Indianapolis
BEGIN:DAYLIGHT
TZOFFSETFROM:-0500
TZOFFSETTO:-0400
TZNAME:EDT
DTSTART:20240310T070000
END:DAYLIGHT
BEGIN:STANDARD
TZOFFSETFROM:-0400
TZOFFSETTO:-0500
TZNAME:EST
DTSTART:20241103T060000
END:STANDARD
BEGIN:DAYLIGHT
TZOFFSETFROM:-0500
TZOFFSETTO:-0400
TZNAME:EDT
DTSTART:20250309T070000
END:DAYLIGHT
BEGIN:STANDARD
TZOFFSETFROM:-0400
TZOFFSETTO:-0500
TZNAME:EST
DTSTART:20251102T060000
END:STANDARD
BEGIN:DAYLIGHT
TZOFFSETFROM:-0500
TZOFFSETTO:-0400
TZNAME:EDT
DTSTART:20260308T070000
END:DAYLIGHT
BEGIN:STANDARD
TZOFFSETFROM:-0400
TZOFFSETTO:-0500
TZNAME:EST
DTSTART:20261101T060000
END:STANDARD
END:VTIMEZONE
BEGIN:VEVENT
DTSTART;VALUE=DATE:20250318
DTEND;VALUE=DATE:20250401
DTSTAMP:20260425T124613
CREATED:20250319T004916Z
LAST-MODIFIED:20250319T004916Z
UID:27531-1742256000-1743465599@indydfs.org
SUMMARY:Job Openings/Internships/Volunteer Opportunities
DESCRIPTION:On the next flyer we present Job Openings/Internships/Volunteer Opportunities in Indianapolis. \nVisit Indy Job Openings
URL:https://indydfs.org/event/job-openings-internships-volunteer-opportunities/
LOCATION:IN
CATEGORIES:Special Event
END:VEVENT
BEGIN:VEVENT
DTSTART;TZID=America/Indiana/Indianapolis:20250326T103000
DTEND;TZID=America/Indiana/Indianapolis:20250326T103000
DTSTAMP:20260425T124613
CREATED:20250310T001946Z
LAST-MODIFIED:20250310T001946Z
UID:27429-1742985000-1742985000@indydfs.org
SUMMARY:Virtual Workshop Wednesdays – Professional Development workshops
DESCRIPTION:
URL:https://indydfs.org/event/virtual-workshop-wednesdays-professional-development-workshops/
LOCATION:IN
CATEGORIES:DFS Community events
END:VEVENT
BEGIN:VEVENT
DTSTART;TZID=America/Indiana/Indianapolis:20250326T110000
DTEND;TZID=America/Indiana/Indianapolis:20250326T140000
DTSTAMP:20260425T124613
CREATED:20250313T235846Z
LAST-MODIFIED:20250313T235846Z
UID:27495-1742986800-1742997600@indydfs.org
SUMMARY:Wednesdays at WorkOne
DESCRIPTION:EVERY Wednesday March 12th \n\, 19th\, 26th \nTime: 11:00 – 2:00\n4410 Shadeland Ave\nIndianapolis IN\nCheck out a full list of participating employers here. \nWednesdays at WorkOne
URL:https://indydfs.org/event/wednesdays-at-workone-4/
LOCATION:4410 Shadeland Ave\, 4410 Shadeland Ave\, Indianapolis\, IN\, United States
CATEGORIES:Workshop
END:VEVENT
BEGIN:VEVENT
DTSTART;TZID=America/Indiana/Indianapolis:20250326T110000
DTEND;TZID=America/Indiana/Indianapolis:20250326T140000
DTSTAMP:20260425T124613
CREATED:20250314T000015Z
LAST-MODIFIED:20250314T000015Z
UID:27496-1742986800-1742997600@indydfs.org
SUMMARY:Wednesdays at WorkOne
DESCRIPTION:EVERY Wednesday \nTime: 11:00 – 2:00\n4410 Shadeland Ave\nIndianapolis IN\nCheck out a full list of participating employers here. \nWednesdays at WorkOne
URL:https://indydfs.org/event/wednesdays-at-workone-5/
LOCATION:4410 Shadeland Ave\, 4410 Shadeland Ave\, Indianapolis\, IN\, United States
CATEGORIES:Workshop
END:VEVENT
END:VCALENDAR