BEGIN:VCALENDAR
VERSION:2.0
PRODID:-//Dress for Success Indianapolis - ECPv6.15.20//NONSGML v1.0//EN
CALSCALE:GREGORIAN
METHOD:PUBLISH
X-ORIGINAL-URL:https://indydfs.org
X-WR-CALDESC:Events for Dress for Success Indianapolis
REFRESH-INTERVAL;VALUE=DURATION:PT1H
X-Robots-Tag:noindex
X-PUBLISHED-TTL:PT1H
BEGIN:VTIMEZONE
TZID:America/Indiana/Indianapolis
BEGIN:DAYLIGHT
TZOFFSETFROM:-0500
TZOFFSETTO:-0400
TZNAME:EDT
DTSTART:20240310T070000
END:DAYLIGHT
BEGIN:STANDARD
TZOFFSETFROM:-0400
TZOFFSETTO:-0500
TZNAME:EST
DTSTART:20241103T060000
END:STANDARD
BEGIN:DAYLIGHT
TZOFFSETFROM:-0500
TZOFFSETTO:-0400
TZNAME:EDT
DTSTART:20250309T070000
END:DAYLIGHT
BEGIN:STANDARD
TZOFFSETFROM:-0400
TZOFFSETTO:-0500
TZNAME:EST
DTSTART:20251102T060000
END:STANDARD
BEGIN:DAYLIGHT
TZOFFSETFROM:-0500
TZOFFSETTO:-0400
TZNAME:EDT
DTSTART:20260308T070000
END:DAYLIGHT
BEGIN:STANDARD
TZOFFSETFROM:-0400
TZOFFSETTO:-0500
TZNAME:EST
DTSTART:20261101T060000
END:STANDARD
END:VTIMEZONE
BEGIN:VEVENT
DTSTART;TZID=America/Indiana/Indianapolis:20250409T090000
DTEND;TZID=America/Indiana/Indianapolis:20250409T101500
DTSTAMP:20260423T075129
CREATED:20250404T003530Z
LAST-MODIFIED:20250404T003530Z
UID:27606-1744189200-1744193700@indydfs.org
SUMMARY:RESUME’ BASICS-WORKSHOPS
DESCRIPTION:April 9\, 2025\n9:00 A.M. – 10:15 A.M.\nApril 23\, 2025\n9:00 A.M. – 10:15 A.M. \nWORKSHOP SEATS ARE LIMITED-\nYOU MUST RESERVE A SPOT BY \nCALLING (317) 838-9335 EXT. 200\nOR BY STOPPING AT OUR OFFICE
URL:https://indydfs.org/event/resume-basics-workshops/
LOCATION:WorkOne Plainfield\, 1610 Reeves Rd\, Plainfield\, IN\, 46168\, United States
CATEGORIES:Workshop
END:VEVENT
BEGIN:VEVENT
DTSTART;TZID=America/Indiana/Indianapolis:20250409T110000
DTEND;TZID=America/Indiana/Indianapolis:20250409T140000
DTSTAMP:20260423T075129
CREATED:20250402T013451Z
LAST-MODIFIED:20250402T013451Z
UID:27584-1744196400-1744207200@indydfs.org
SUMMARY:Wednesdays at WorkOne
DESCRIPTION:EVERY Wednesday April 2nd\, 9th\, 16th\, 23rd\, 30th\n4410 Shadeland Ave\nIndianapolis IN\nCheck out a full list of participating employers here. \nWednesdays at WorkOne
URL:https://indydfs.org/event/wednesdays-at-workone-7/
LOCATION:4410 Shadeland Ave\, 4410 Shadeland Ave\, Indianapolis\, IN\, United States
CATEGORIES:Job fair
END:VEVENT
END:VCALENDAR