BEGIN:VCALENDAR
VERSION:2.0
PRODID:-//Dress for Success Indianapolis - ECPv6.15.20//NONSGML v1.0//EN
CALSCALE:GREGORIAN
METHOD:PUBLISH
X-WR-CALNAME:Dress for Success Indianapolis
X-ORIGINAL-URL:https://indydfs.org
X-WR-CALDESC:Events for Dress for Success Indianapolis
REFRESH-INTERVAL;VALUE=DURATION:PT1H
X-Robots-Tag:noindex
X-PUBLISHED-TTL:PT1H
BEGIN:VTIMEZONE
TZID:America/Indiana/Indianapolis
BEGIN:DAYLIGHT
TZOFFSETFROM:-0500
TZOFFSETTO:-0400
TZNAME:EDT
DTSTART:20240310T070000
END:DAYLIGHT
BEGIN:STANDARD
TZOFFSETFROM:-0400
TZOFFSETTO:-0500
TZNAME:EST
DTSTART:20241103T060000
END:STANDARD
BEGIN:DAYLIGHT
TZOFFSETFROM:-0500
TZOFFSETTO:-0400
TZNAME:EDT
DTSTART:20250309T070000
END:DAYLIGHT
BEGIN:STANDARD
TZOFFSETFROM:-0400
TZOFFSETTO:-0500
TZNAME:EST
DTSTART:20251102T060000
END:STANDARD
BEGIN:DAYLIGHT
TZOFFSETFROM:-0500
TZOFFSETTO:-0400
TZNAME:EDT
DTSTART:20260308T070000
END:DAYLIGHT
BEGIN:STANDARD
TZOFFSETFROM:-0400
TZOFFSETTO:-0500
TZNAME:EST
DTSTART:20261101T060000
END:STANDARD
END:VTIMEZONE
BEGIN:VEVENT
DTSTART;VALUE=DATE:20250414
DTEND;VALUE=DATE:20250415
DTSTAMP:20260421T080433
CREATED:20250310T004518Z
LAST-MODIFIED:20250310T004518Z
UID:27448-1744588800-1744675199@indydfs.org
SUMMARY:Hiring Events – interviews and connection with Dress for Success employment partners
DESCRIPTION:
URL:https://indydfs.org/event/hiring-events-interviews-and-connection-with-dress-for-success-employment-partners/
LOCATION:IN
CATEGORIES:DFS Community events
END:VEVENT
BEGIN:VEVENT
DTSTART;TZID=America/Indiana/Indianapolis:20250414T110000
DTEND;TZID=America/Indiana/Indianapolis:20250414T133000
DTSTAMP:20260421T080433
CREATED:20250319T004304Z
LAST-MODIFIED:20250319T004304Z
UID:27528-1744628400-1744637400@indydfs.org
SUMMARY:Dress for Success- HIRING EVENT
DESCRIPTION:Dress for Success Hiring Event Apr 14th (1).pdf_ \nEVENT FOR WOMEN ONLY \nARP 14 11AM-1:30PM \n820 N. MERIDIAN \n-EMPLOYERS FROM VARIOUS INDUSTRIES \nON-SITE INTERVIEWS \nMANDATORY RESUME REVIEWS \nPRIOR TO PARTICIPATION \nRegister for more events at\nindydfs.org/career-development-center/ \nClick on the flyer to sign up.
URL:https://indydfs.org/event/dress-for-success-hiring-event/
LOCATION:820 Meridian\, 820 N. MERIDIAN\, indianapolis\, IN\, United States
CATEGORIES:DFS Community events
END:VEVENT
BEGIN:VEVENT
DTSTART;TZID=America/Indiana/Indianapolis:20250414T110000
DTEND;TZID=America/Indiana/Indianapolis:20250414T133000
DTSTAMP:20260421T080433
CREATED:20250404T000849Z
LAST-MODIFIED:20250404T000849Z
UID:27594-1744628400-1744637400@indydfs.org
SUMMARY:Dress for Success Hiring Event – For Women Only
DESCRIPTION:Dress for Success Hiring Event – For Women Only\n820 N Meridian Street\nIndianapolis IN
URL:https://indydfs.org/event/dress-for-success-hiring-event-for-women-only/
LOCATION:IN
CATEGORIES:DFS Community events
END:VEVENT
END:VCALENDAR