BEGIN:VCALENDAR
VERSION:2.0
PRODID:-//Dress for Success Indianapolis - ECPv6.15.20//NONSGML v1.0//EN
CALSCALE:GREGORIAN
METHOD:PUBLISH
X-WR-CALNAME:Dress for Success Indianapolis
X-ORIGINAL-URL:https://indydfs.org
X-WR-CALDESC:Events for Dress for Success Indianapolis
REFRESH-INTERVAL;VALUE=DURATION:PT1H
X-Robots-Tag:noindex
X-PUBLISHED-TTL:PT1H
BEGIN:VTIMEZONE
TZID:America/Indiana/Indianapolis
BEGIN:DAYLIGHT
TZOFFSETFROM:-0500
TZOFFSETTO:-0400
TZNAME:EDT
DTSTART:20240310T070000
END:DAYLIGHT
BEGIN:STANDARD
TZOFFSETFROM:-0400
TZOFFSETTO:-0500
TZNAME:EST
DTSTART:20241103T060000
END:STANDARD
BEGIN:DAYLIGHT
TZOFFSETFROM:-0500
TZOFFSETTO:-0400
TZNAME:EDT
DTSTART:20250309T070000
END:DAYLIGHT
BEGIN:STANDARD
TZOFFSETFROM:-0400
TZOFFSETTO:-0500
TZNAME:EST
DTSTART:20251102T060000
END:STANDARD
BEGIN:DAYLIGHT
TZOFFSETFROM:-0500
TZOFFSETTO:-0400
TZNAME:EDT
DTSTART:20260308T070000
END:DAYLIGHT
BEGIN:STANDARD
TZOFFSETFROM:-0400
TZOFFSETTO:-0500
TZNAME:EST
DTSTART:20261101T060000
END:STANDARD
END:VTIMEZONE
BEGIN:VEVENT
DTSTART;TZID=America/Indiana/Indianapolis:20250416T090000
DTEND;TZID=America/Indiana/Indianapolis:20250416T101500
DTSTAMP:20260421T093606
CREATED:20250404T003334Z
LAST-MODIFIED:20250404T003334Z
UID:27604-1744794000-1744798500@indydfs.org
SUMMARY:Interviewing Workshops
DESCRIPTION:April 2\, 2025\n9:00 A.M. – 10:15 A.M. \nApril 16\, 2025\n9:00 A.M. – 10:15 A.M. \nApril 30\, 2025\n9:00 A.M. – 10:15 A.M. \nWORKSHOP SEATS ARE LIMITED-\nYOU MUST RESERVE A SEAT BY \nCALLING (317) 838-9335 EXT. 200\nOR BY STOPPING AT OUR OFFICE
URL:https://indydfs.org/event/interviewing-workshops/
LOCATION:WorkOne Plainfield\, 1610 Reeves Rd\, Plainfield\, IN\, 46168\, United States
CATEGORIES:Workshop
END:VEVENT
BEGIN:VEVENT
DTSTART;TZID=America/Indiana/Indianapolis:20250416T100000
DTEND;TZID=America/Indiana/Indianapolis:20250416T140000
DTSTAMP:20260421T093606
CREATED:20250301T195908Z
LAST-MODIFIED:20250313T013438Z
UID:27374-1744797600-1744812000@indydfs.org
SUMMARY:Indianapolis In-Person Events Set for 2025
DESCRIPTION:Job News Job Fair Feb 26 \nWyndham Indianapolis West\n10am-2pm\n2544 Executive Dr\nIndianapolis\, IN 46241\nWednesday – February 26th\, April 16th\,\nJune 4th\, July 29th\, September 17th\,\nNovember 4th\n• Meet face to face with active job seekers\n• Have time to meet\, interview and hire candidates\nall in one day\n• A well-known and convenient local venue\n• Free parking for employers and job seekers\n• Hot buffet lunches and beverages throughout the day\n• Maximum marketing exposure (Television\, Print\, Radio\,\nSocial Media\, Schools\, Universities and Career Centers)\n• We target our marketing to your open positions\, making\nour career fairs effective for any industry! \n‘Ask about our special pricing for buying multiple events! \n 
URL:https://indydfs.org/event/indianapolis-in-person-events-set-for-2025/
LOCATION:Wyndham Indianapolis WEST\, 2544 Executive Dr\, indianapolis\, IN\, 46241\, United States
CATEGORIES:Job fair
END:VEVENT
BEGIN:VEVENT
DTSTART;TZID=America/Indiana/Indianapolis:20250416T100000
DTEND;TZID=America/Indiana/Indianapolis:20250416T140000
DTSTAMP:20260421T093606
CREATED:20250402T001541Z
LAST-MODIFIED:20250402T001541Z
UID:27567-1744797600-1744812000@indydfs.org
SUMMARY:Indianapolis In-Person Events Set for 2025
DESCRIPTION:Job News Job Fair Feb 26 \nWyndham Indianapolis West\n10am-2pm\n2544 Executive Dr\nIndianapolis\, IN 46241 \nWednesday – February 26th\, April 16th\,\nJune 4th\, July 29th\, September 17th\,\nNovember 4th
URL:https://indydfs.org/event/indianapolis-in-person-events-set-for-2025-2/
LOCATION:Wyndham Indianapolis WEST\, 2544 Executive Dr\, indianapolis\, IN\, 46241\, United States
CATEGORIES:Special Event
END:VEVENT
BEGIN:VEVENT
DTSTART;TZID=America/Indiana/Indianapolis:20250416T110000
DTEND;TZID=America/Indiana/Indianapolis:20250416T130000
DTSTAMP:20260421T093606
CREATED:20250404T003022Z
LAST-MODIFIED:20250404T003022Z
UID:27602-1744801200-1744808400@indydfs.org
SUMMARY:Job Fair
DESCRIPTION:WorkOne Plainfield Healthcare Hiring Event April 16th.pdfring Event \nVisit us at the Plainfield WorkOne to engage with prospective employers and discover their available opportunities.
URL:https://indydfs.org/event/job-fair-3/
LOCATION:WorkOne Plainfield\, 1610 Reeves Rd\, Plainfield\, IN\, 46168\, United States
CATEGORIES:Job fair
END:VEVENT
BEGIN:VEVENT
DTSTART;TZID=America/Indiana/Indianapolis:20250416T110000
DTEND;TZID=America/Indiana/Indianapolis:20250416T140000
DTSTAMP:20260421T093606
CREATED:20250402T013602Z
LAST-MODIFIED:20250402T013602Z
UID:27585-1744801200-1744812000@indydfs.org
SUMMARY:Wednesdays at WorkOne
DESCRIPTION:Wednesdays at WorkOne Time: 11:00 – 2:00\nEVERY Wednesday April 2nd\, 9th\, 16th\, 23rd\, 30th\n4410 Shadeland Ave\nIndianapolis IN\nCheck out a full list of participating employers here. \nWednesdays at WorkOne
URL:https://indydfs.org/event/wednesdays-at-workone-8/
LOCATION:4410 Shadeland Ave\, 4410 Shadeland Ave\, Indianapolis\, IN\, United States
CATEGORIES:Special Event
END:VEVENT
END:VCALENDAR