BEGIN:VCALENDAR
VERSION:2.0
PRODID:-//Dress for Success Indianapolis - ECPv6.15.20//NONSGML v1.0//EN
CALSCALE:GREGORIAN
METHOD:PUBLISH
X-WR-CALNAME:Dress for Success Indianapolis
X-ORIGINAL-URL:https://indydfs.org
X-WR-CALDESC:Events for Dress for Success Indianapolis
REFRESH-INTERVAL;VALUE=DURATION:PT1H
X-Robots-Tag:noindex
X-PUBLISHED-TTL:PT1H
BEGIN:VTIMEZONE
TZID:America/Indiana/Indianapolis
BEGIN:DAYLIGHT
TZOFFSETFROM:-0500
TZOFFSETTO:-0400
TZNAME:EDT
DTSTART:20240310T070000
END:DAYLIGHT
BEGIN:STANDARD
TZOFFSETFROM:-0400
TZOFFSETTO:-0500
TZNAME:EST
DTSTART:20241103T060000
END:STANDARD
BEGIN:DAYLIGHT
TZOFFSETFROM:-0500
TZOFFSETTO:-0400
TZNAME:EDT
DTSTART:20250309T070000
END:DAYLIGHT
BEGIN:STANDARD
TZOFFSETFROM:-0400
TZOFFSETTO:-0500
TZNAME:EST
DTSTART:20251102T060000
END:STANDARD
BEGIN:DAYLIGHT
TZOFFSETFROM:-0500
TZOFFSETTO:-0400
TZNAME:EDT
DTSTART:20260308T070000
END:DAYLIGHT
BEGIN:STANDARD
TZOFFSETFROM:-0400
TZOFFSETTO:-0500
TZNAME:EST
DTSTART:20261101T060000
END:STANDARD
END:VTIMEZONE
BEGIN:VEVENT
DTSTART;TZID=America/Indiana/Indianapolis:20250418T110000
DTEND;TZID=America/Indiana/Indianapolis:20250418T140000
DTSTAMP:20260421T093625
CREATED:20250319T003820Z
LAST-MODIFIED:20250319T003820Z
UID:27525-1744974000-1744984800@indydfs.org
SUMMARY:HVAF  Employer Highlight
DESCRIPTION:Bell Techlogix Hiring Event Apr 18th.pdf_ \nWe provide IT managed service solutions \nDiscover the exciting opportunities awaiting you! Don’t miss\nout—come talk with us and unlock your potential today! \nApril 18th \n964 N. Pennsylvania St. \n11am-2pm
URL:https://indydfs.org/event/hvaf-employer-highlight/
LOCATION:964 N\, 964 N. Pennsylvania St.\, IN\, United States
CATEGORIES:Special Event
END:VEVENT
BEGIN:VEVENT
DTSTART;TZID=America/Indiana/Indianapolis:20250418T110000
DTEND;TZID=America/Indiana/Indianapolis:20250418T140000
DTSTAMP:20260421T093625
CREATED:20250404T000933Z
LAST-MODIFIED:20250404T000933Z
UID:27595-1744974000-1744984800@indydfs.org
SUMMARY:Bell Techlogix
DESCRIPTION:Date: April 18\, 2025 Time: 11:00 – 2:00\nBell Techlogix\n964 N Pennsylvania Street\nIndianapolis IN
URL:https://indydfs.org/event/bell-techlogix/
LOCATION:IN
CATEGORIES:Special Event
END:VEVENT
END:VCALENDAR