BEGIN:VCALENDAR
VERSION:2.0
PRODID:-//Dress for Success Indianapolis - ECPv6.15.20//NONSGML v1.0//EN
CALSCALE:GREGORIAN
METHOD:PUBLISH
X-ORIGINAL-URL:https://indydfs.org
X-WR-CALDESC:Events for Dress for Success Indianapolis
REFRESH-INTERVAL;VALUE=DURATION:PT1H
X-Robots-Tag:noindex
X-PUBLISHED-TTL:PT1H
BEGIN:VTIMEZONE
TZID:America/Indiana/Indianapolis
BEGIN:DAYLIGHT
TZOFFSETFROM:-0500
TZOFFSETTO:-0400
TZNAME:EDT
DTSTART:20240310T070000
END:DAYLIGHT
BEGIN:STANDARD
TZOFFSETFROM:-0400
TZOFFSETTO:-0500
TZNAME:EST
DTSTART:20241103T060000
END:STANDARD
BEGIN:DAYLIGHT
TZOFFSETFROM:-0500
TZOFFSETTO:-0400
TZNAME:EDT
DTSTART:20250309T070000
END:DAYLIGHT
BEGIN:STANDARD
TZOFFSETFROM:-0400
TZOFFSETTO:-0500
TZNAME:EST
DTSTART:20251102T060000
END:STANDARD
BEGIN:DAYLIGHT
TZOFFSETFROM:-0500
TZOFFSETTO:-0400
TZNAME:EDT
DTSTART:20260308T070000
END:DAYLIGHT
BEGIN:STANDARD
TZOFFSETFROM:-0400
TZOFFSETTO:-0500
TZNAME:EST
DTSTART:20261101T060000
END:STANDARD
END:VTIMEZONE
BEGIN:VEVENT
DTSTART;TZID=America/Indiana/Indianapolis:20250505T080000
DTEND;TZID=America/Indiana/Indianapolis:20250505T170000
DTSTAMP:20260423T074506
CREATED:20250404T000819Z
LAST-MODIFIED:20250404T000819Z
UID:27593-1746432000-1746464400@indydfs.org
SUMMARY:Dress For Success
DESCRIPTION:Dress For Success – Register here (upcoming workshops: Virtual Money Mondays\,\nLinkedIn\, Leadership Training\, Virtual Workshop Wednesday-Career Development)\n820 N Meridian Street\nIndianapolis IN
URL:https://indydfs.org/event/dress-for-success-2/
LOCATION:IN
CATEGORIES:DFS Community events
END:VEVENT
BEGIN:VEVENT
DTSTART;TZID=America/Indiana/Indianapolis:20250505T103000
DTEND;TZID=America/Indiana/Indianapolis:20250505T233000
DTSTAMP:20260423T074506
CREATED:20250309T233048Z
LAST-MODIFIED:20250309T233048Z
UID:27416-1746441000-1746487800@indydfs.org
SUMMARY:Virtual Money Mondays – Financial Literacy workshops with different financial topics and tools
DESCRIPTION:
URL:https://indydfs.org/event/virtual-money-mondays-financial-literacy-workshops-with-different-financial-topics-and-tools-3/
LOCATION:IN
CATEGORIES:DFS Community events
END:VEVENT
END:VCALENDAR