BEGIN:VCALENDAR
VERSION:2.0
PRODID:-//Dress for Success Indianapolis - ECPv6.15.20//NONSGML v1.0//EN
CALSCALE:GREGORIAN
METHOD:PUBLISH
X-ORIGINAL-URL:https://indydfs.org
X-WR-CALDESC:Events for Dress for Success Indianapolis
REFRESH-INTERVAL;VALUE=DURATION:PT1H
X-Robots-Tag:noindex
X-PUBLISHED-TTL:PT1H
BEGIN:VTIMEZONE
TZID:America/Indiana/Indianapolis
BEGIN:DAYLIGHT
TZOFFSETFROM:-0500
TZOFFSETTO:-0400
TZNAME:EDT
DTSTART:20240310T070000
END:DAYLIGHT
BEGIN:STANDARD
TZOFFSETFROM:-0400
TZOFFSETTO:-0500
TZNAME:EST
DTSTART:20241103T060000
END:STANDARD
BEGIN:DAYLIGHT
TZOFFSETFROM:-0500
TZOFFSETTO:-0400
TZNAME:EDT
DTSTART:20250309T070000
END:DAYLIGHT
BEGIN:STANDARD
TZOFFSETFROM:-0400
TZOFFSETTO:-0500
TZNAME:EST
DTSTART:20251102T060000
END:STANDARD
BEGIN:DAYLIGHT
TZOFFSETFROM:-0500
TZOFFSETTO:-0400
TZNAME:EDT
DTSTART:20260308T070000
END:DAYLIGHT
BEGIN:STANDARD
TZOFFSETFROM:-0400
TZOFFSETTO:-0500
TZNAME:EST
DTSTART:20261101T060000
END:STANDARD
END:VTIMEZONE
BEGIN:VEVENT
DTSTART;TZID=America/Indiana/Indianapolis:20250407T103000
DTEND;TZID=America/Indiana/Indianapolis:20250407T233000
DTSTAMP:20260423T063030
CREATED:20250309T233002Z
LAST-MODIFIED:20250309T233002Z
UID:27415-1744021800-1744068600@indydfs.org
SUMMARY:Virtual Money Mondays – Financial Literacy workshops with different financial topics and tools
DESCRIPTION:
URL:https://indydfs.org/event/virtual-money-mondays-financial-literacy-workshops-with-different-financial-topics-and-tools-2/
CATEGORIES:DFS Community events
END:VEVENT
BEGIN:VEVENT
DTSTART;TZID=America/Indiana/Indianapolis:20250407T080000
DTEND;TZID=America/Indiana/Indianapolis:20250407T170000
DTSTAMP:20260423T063030
CREATED:20250404T000728Z
LAST-MODIFIED:20250404T000728Z
UID:27591-1744012800-1744045200@indydfs.org
SUMMARY:Dress For Success events
DESCRIPTION:Dress For Success – Register here (upcoming workshops: Virtual Money Mondays\,\nLinkedIn\, Leadership Training\, Virtual Workshop Wednesday-Career Development)\n820 N Meridian Street\nIndianapolis IN
URL:https://indydfs.org/event/dress-for-success-events/
CATEGORIES:DFS Community events
END:VEVENT
BEGIN:VEVENT
DTSTART;TZID=America/Indiana/Indianapolis:20250326T103000
DTEND;TZID=America/Indiana/Indianapolis:20250326T103000
DTSTAMP:20260423T063030
CREATED:20250310T001946Z
LAST-MODIFIED:20250310T001946Z
UID:27429-1742985000-1742985000@indydfs.org
SUMMARY:Virtual Workshop Wednesdays – Professional Development workshops
DESCRIPTION:
URL:https://indydfs.org/event/virtual-workshop-wednesdays-professional-development-workshops/
CATEGORIES:DFS Community events
END:VEVENT
BEGIN:VEVENT
DTSTART;TZID=America/Indiana/Indianapolis:20250321T140000
DTEND;TZID=America/Indiana/Indianapolis:20250321T160000
DTSTAMP:20260423T063030
CREATED:20250310T004302Z
LAST-MODIFIED:20250310T004302Z
UID:27445-1742565600-1742572800@indydfs.org
SUMMARY:Leadership Trainings – Leadership skills without the title of a leader
DESCRIPTION:
URL:https://indydfs.org/event/leadership-trainings-leadership-skills-without-the-title-of-a-leader/
CATEGORIES:DFS Community events
END:VEVENT
BEGIN:VEVENT
DTSTART;VALUE=DATE:20250310
DTEND;VALUE=DATE:20250311
DTSTAMP:20260423T063030
CREATED:20250310T003759Z
LAST-MODIFIED:20250310T003759Z
UID:27441-1741564800-1741651199@indydfs.org
SUMMARY:LinkedIn workshops – Basics of LinkedIn including FREE professional headshots
DESCRIPTION:
URL:https://indydfs.org/event/linkedin-workshops-basics-of-linkedin-including-free-professional-headshots/
CATEGORIES:DFS Community events
END:VEVENT
BEGIN:VEVENT
DTSTART;TZID=America/Indiana/Indianapolis:20250303T103000
DTEND;TZID=America/Indiana/Indianapolis:20250303T233000
DTSTAMP:20260423T063030
CREATED:20250309T232913Z
LAST-MODIFIED:20250309T232913Z
UID:27414-1740997800-1741044600@indydfs.org
SUMMARY:Virtual Money Mondays – Financial Literacy workshops with different financial topics and tools
DESCRIPTION:
URL:https://indydfs.org/event/virtual-money-mondays-financial-literacy-workshops-with-different-financial-topics-and-tools/
CATEGORIES:DFS Community events
END:VEVENT
END:VCALENDAR