BEGIN:VCALENDAR
VERSION:2.0
PRODID:-//Dress for Success Indianapolis - ECPv6.15.20//NONSGML v1.0//EN
CALSCALE:GREGORIAN
METHOD:PUBLISH
X-WR-CALNAME:Dress for Success Indianapolis
X-ORIGINAL-URL:https://indydfs.org
X-WR-CALDESC:Events for Dress for Success Indianapolis
REFRESH-INTERVAL;VALUE=DURATION:PT1H
X-Robots-Tag:noindex
X-PUBLISHED-TTL:PT1H
BEGIN:VTIMEZONE
TZID:America/Indiana/Indianapolis
BEGIN:DAYLIGHT
TZOFFSETFROM:-0500
TZOFFSETTO:-0400
TZNAME:EDT
DTSTART:20240310T070000
END:DAYLIGHT
BEGIN:STANDARD
TZOFFSETFROM:-0400
TZOFFSETTO:-0500
TZNAME:EST
DTSTART:20241103T060000
END:STANDARD
BEGIN:DAYLIGHT
TZOFFSETFROM:-0500
TZOFFSETTO:-0400
TZNAME:EDT
DTSTART:20250309T070000
END:DAYLIGHT
BEGIN:STANDARD
TZOFFSETFROM:-0400
TZOFFSETTO:-0500
TZNAME:EST
DTSTART:20251102T060000
END:STANDARD
BEGIN:DAYLIGHT
TZOFFSETFROM:-0500
TZOFFSETTO:-0400
TZNAME:EDT
DTSTART:20260308T070000
END:DAYLIGHT
BEGIN:STANDARD
TZOFFSETFROM:-0400
TZOFFSETTO:-0500
TZNAME:EST
DTSTART:20261101T060000
END:STANDARD
END:VTIMEZONE
BEGIN:VEVENT
DTSTART;TZID=America/Indiana/Indianapolis:20250602T103000
DTEND;TZID=America/Indiana/Indianapolis:20250602T233000
DTSTAMP:20260421T111414
CREATED:20250309T233127Z
LAST-MODIFIED:20250309T233127Z
UID:27417-1748860200-1748907000@indydfs.org
SUMMARY:Virtual Money Mondays – Financial Literacy workshops with different financial topics and tools
DESCRIPTION:
URL:https://indydfs.org/event/virtual-money-mondays-financial-literacy-workshops-with-different-financial-topics-and-tools-4/
LOCATION:IN
CATEGORIES:DFS Community events
END:VEVENT
BEGIN:VEVENT
DTSTART;TZID=America/Indiana/Indianapolis:20250620T140000
DTEND;TZID=America/Indiana/Indianapolis:20250620T160000
DTSTAMP:20260421T111414
CREATED:20250310T004405Z
LAST-MODIFIED:20250310T004405Z
UID:27446-1750428000-1750435200@indydfs.org
SUMMARY:Leadership Trainings – Leadership skills without the title of a leader
DESCRIPTION:
URL:https://indydfs.org/event/leadership-trainings-leadership-skills-without-the-title-of-a-leader-2/
LOCATION:IN
CATEGORIES:DFS Community events
END:VEVENT
BEGIN:VEVENT
DTSTART;TZID=America/Indiana/Indianapolis:20250625T103000
DTEND;TZID=America/Indiana/Indianapolis:20250625T113000
DTSTAMP:20260421T111414
CREATED:20250310T002516Z
LAST-MODIFIED:20250310T002516Z
UID:27432-1750847400-1750851000@indydfs.org
SUMMARY:Virtual Workshop Wednesdays – Professional Development workshops
DESCRIPTION:
URL:https://indydfs.org/event/virtual-workshop-wednesdays-professional-development-workshops-4/
LOCATION:IN
CATEGORIES:DFS Community events
END:VEVENT
BEGIN:VEVENT
DTSTART;TZID=America/Indiana/Indianapolis:20250625T113000
DTEND;TZID=America/Indiana/Indianapolis:20250625T130000
DTSTAMP:20260421T111414
CREATED:20250313T011340Z
LAST-MODIFIED:20250313T011340Z
UID:27482-1750851000-1750856400@indydfs.org
SUMMARY:Equal Opportunity Day Luncheon
DESCRIPTION:Wednesday\, June 25\, 2025 \nIndiana Convention Center | Sagamore Ballroom\n11:30 a.m. – 1:00 p.m.
URL:https://indydfs.org/event/equal-opportunity-day-luncheon/
LOCATION:IN
CATEGORIES:Special Event
END:VEVENT
BEGIN:VEVENT
DTSTART;VALUE=DATE:20250630
DTEND;VALUE=DATE:20250701
DTSTAMP:20260421T111414
CREATED:20250310T003825Z
LAST-MODIFIED:20250310T003825Z
UID:27442-1751241600-1751327999@indydfs.org
SUMMARY:month of every quarter. Workshops at the Dress for Success office\, time TBD
DESCRIPTION:
URL:https://indydfs.org/event/month-of-every-quarter-workshops-at-the-dress-for-success-office-time-tbd/
LOCATION:IN
CATEGORIES:DFS Community events
END:VEVENT
END:VCALENDAR